Workbook

Sheet HnB-Select Markets-Feb'26
B2: February 1st, 2026
B3: (a) Either an RSP, a recommended RSP or a maximum RSP, where applicable | E3: RSP(a)
B4: Note: Non-exhaustive list. Excludes the U.S. and International Duty Free. Unless otherwise stated, 20 cigarettes / HTUs per pack. LIL SOLID refers to LIL 2.0 and LIL EZ unless otherwise stated | E4: HnB - Consumables | K4: Cigarette
B5: Source: PMI affiliates | E5: ILUMA | H5: ORIGINALS | I5: BONDS | J5: LIL | K5: MARLBORO | M5: Note
B6: Region | C6: Market | D6: Currency | E6: LEVIA | F6: TEREA | G6: SENTIA / DELIA | H6: HEETS | I6: BLENDS | J6: FIIT
B7: EUROPE | C7: AUSTRIA | D7: EUR | E7: 0 | F7: 0 | G7: 0 | H7: 6.3 | I7: 0 | J7: 0 | K7: 7
B8: EUROPE | C8: BULGARIA | D8: EUR | E8: 3.32 | F8: 3.32 | G8: 3.07 | H8: 3.32 | I8: 0 | J8: 2.81 | K8: 3.7324307
B9: EUROPE | C9: CZECH REPUBLIC | D9: CZK | E9: 145 | F9: 145 | G9: 130 | H9: 145 | I9: 0 | J9: 135 | K9: 179
B10: EUROPE | C10: FRANCE | D10: EUR | E10: 0 | F10: 0 | G10: 0 | H10: 10.5 | I10: 0 | J10: 0 | K10: 13.5
B11: EUROPE | C11: GERMANY | D11: EUR | E11: 7.8 | F11: 7.8 | G11: 7 | H11: 0 | I11: 0 | J11: 0 | K11: 9.4
B12: EUROPE | C12: GREECE | D12: EUR | E12: 4.2 | F12: 4 | G12: 0 | H12: 0 | I12: 0 | J12: 3.5 | K12: 4.8
B13: EUROPE | C13: HUNGARY | D13: HUF | E13: 1999 | F13: 2200 | G13: 1950 | H13: 0 | I13: 0 | J13: 0 | K13: 2650
B14: EUROPE | C14: ITALY | D14: EUR | E14: 5.5 | F14: 5.5 | G14: 5 | H14: 5.5 | I14: 4.5 | J14: 4.7 | K14: 6.8
B15: EUROPE | C15: LITHUANIA | D15: EUR | E15: 4.3 | F15: 5.4 | G15: 4.5 | H15: 4.5 | I15: 0 | J15: 4.3 | K15: 6
B16: EUROPE | C16: NETHERLANDS | D16: EUR | E16: 6 | F16: 6 | G16: 6 | H16: 0 | I16: 0 | J16: 0 | K16: 13
B17: EUROPE | C17: POLAND | D17: PLN | E17: 16.99 | F17: 19.99 | G17: 16.99 | H17: 0 | I17: 0 | J17: 16.5 | K17: 26.99
B18: EUROPE | C18: PORTUGAL | D18: EUR | E18: 4.8 | F18: 5 | G18: 4.5 | H18: 0 | I18: 0 | J18: 4 | K18: 6.2
... B39: EA, AU & GTR | C39: TAIWAN | D39: TWD | E39: 0 | F39: 130 | G39: 0 | H39: 0 | I39: 0 | J39: 0 | K39: 120
B40: AMERICAS | C40: CANADA | D40: CAD | E40: 0 | F40: 10.92 | G40: 0 | H40: 0 | I40: 0 | J40: 0 | K40: 18.85 | M40: RSPs are for the Province of Ontario. HTU RSP is per 20 sticks equivalent based on individual 180s selling unit. HTUs are sold in cartons of 10 packs of 18 units (180s), and 3 packs of 18 units (54s), for 98.30 and 37.84, includes 13% VAT . Cigarette RSP for pack of 20 cigarettes equivalent (RBH brand: Belmont 20s), includes 13% VAT.
B41: AMERICAS | C41: COLOMBIA | D41: COP | E41: 0 | F41: 11500 | G41: 0 | H41: 0 | I41: 8200 | J41: 0 | K41: 13000
B42: AMERICAS | C42: COSTA RICA | D42: CRC | E42: 0 | F42: 2600 | G42: 0 | H42: 2600 | I42: 0 | J42: 0 | K42: 2800
B43: AMERICAS | C43: MEXICO | D43: MXN | E43: 0 | F43: 85 | G43: 0 | H43: 0 | I43: 0 | J43: 0 | K43: 103

Sheet Vaping-Select Markets-Feb'26
B2: February 1st, 2026
B3: (a) Either an RSP, a recommended RSP or a maximum RSP, where applicable
B4: Note: Non-exhaustive list. Pod RSPs are displayed per pack. All VEEV Pod packs inlcude 2 pods, unless otherwise stated Source: PMI affiliates | E4: RSP(a)
E5: VEEV ONE | F5: VEEV NOW | G5: VEEV 2.0 | J5: Note
B6: Region | C6: Market | D6: Currency | E6: Pod | G6: Kit | H6: Pod
B7: EUROPE | C7: AUSTRIA | D7: EUR | E7: 8.5 | F7: 0
B8: EUROPE | C8: BELGIUM | D8: EUR | E8: 9 | F8: 0
B9: EUROPE | C9: BULGARIA | D9: EUR | E9: 7.6 | F9: 0
B10: EUROPE | C10: CZECH REPUBLIC | D10: CZK | E10: 229 | F10: 209
B11: EUROPE | C11: FINLAND | D11: EUR | E11: 8.9 | F11: 8.29
B12: EUROPE | C12: FRANCE | D12: EUR | E12: 8 | F12: 0
B13: EUROPE | C13: GERMANY | D13: EUR | E13: 10.9 | F13: 10.9
B14: EUROPE | C14: GREECE | D14: EUR | E14: 3 | F14: 8 | J14: 1 pod per pack
B15: EUROPE | C15: ITALY | D15: EUR | E15: 8.9 | F15: 0
B16: EUROPE | C16: POLAND | D16: PLN | E16: 39.9 | F16: 0
B17: EUROPE | C17: PORTUGAL | D17: EUR | E17: 3.99 | F17: 7.99 | J17: 1 pod per pack
B18: EUROPE | C18: ROMANIA | D18: RON | E18: 22 | F18: 0
B19: EUROPE | C19: SLOVAK REPUBLIC | D19: EUR | E19: 8.9 | F19: 8.9
B20: EUROPE | C20: SPAIN | D20: EUR | E20: 7.5 | F20: 8.5
B21: EUROPE | C21: SWEDEN | D21: SEK | E21: 59 | F21: 89 | J21: 1 pod per pack
B22: EUROPE | C22: SWITZERLAND | D22: CHF | E22: 4.9 | F22: 9.9 | J22: 1 pod per pack
B23: EUROPE | C23: UNITED KINGDOM | D23: GBP | E23: 5.98 | F23: 0
B24: SSEA, CIS & MEA | C24: INDONESIA | D24: IDR | E24: 70000 | F24: 80000
B25: SSEA, CIS & MEA | C25: SOUTH AFRICA | D25: ZAR | E25: 120 | F25: 99
B26: EA, AU & GTR | C26: MALAYSIA | D26: MYR | E26: 19 | F26: 12.9
B27: EA, AU & GTR | C27: NEW ZEALAND | D27: NZD | E27: 8.99 | F27: 0
B28: AMERICAS | C28: CANADA | D28: CAD | E28: =14.99*1.13 -> 16.9387 | F28: 39.5387
B29: AMERICAS | C29: CHILE | D29: CLP | E29: 0 | F29: 5990 | H29: VEEV Now Ultra 2ml
B30: AMERICAS | C30: COLOMBIA | D30: COP | E30: 0 | F30: 30000
B31: AMERICAS | C31: COSTA RICA | D31: CRC | E31: 0 | F31: 9000

Sheet Pouches-Select Markets-Feb'26
B2: February 1st, 2026
B4: Note: Non-exhaustive list. 20 pouches/can, except Philippines, South Africa and Bhutan where 15 pouches/can Source: PMI affiliates
B6: Region | C6: Market | D6: Currency | E6: ZYN (RSP/Can) | G6: Note
B7: EUROPE | C7: AUSTRIA | D7: EUR | E7: 6
B8: EUROPE | C8: BULGARIA | D8: EUR | E8: 4
B9: EUROPE | C9: CZECH REPUBLIC | D9: CZK | E9: 142.85714
B10: EUROPE | C10: DENMARK | D10: DKK | E10: 52
B11: EUROPE | C11: FINLAND | D11: EUR | E11: 6.99
B12: EUROPE | C12: FRANCE | D12: EUR | E12: 7
B13: EUROPE | C13: GREECE | D13: EUR | E13: 5.5
B14: EUROPE | C14: HUNGARY | D14: HUF | E14: 1900
B15: EUROPE | C15: ICELAND | D15: ISK | E15: 917
B16: EUROPE | C16: IRELAND | D16: EUR | E16: 7
B17: EUROPE | C17: ITALY | D17: EUR | E17: 5
B18: EUROPE | C18: NORWAY | D18: NOK | E18: 79
... B37: AMERICAS | C37: MEXICO | D37: MXN | E37: 80

Sheet Nic. Pouch-U.S.- Feb'26
B2: Nielsen, based on 13-weeks period
B4: Note: Non-exhaustive list. 15 pouches/can U.S. retail selling price at the register, including the state/municipalities unique tax structures as well as promotions. Source: PMI affiliates, Nielsen, retail selling prices based on 13-weeks period
E5: 13 weeks Ending 02/14/26
C6: State | D6: Currency | E6: ZYN (RSP/Can) | G6: Note
B7: U.S. | C7: ALABAMA | D7: USD | E7: 5.41
B8: U.S. | C8: ARIZONA | D8: USD | E8: 5.79
B9: U.S. | C9: CALIFORNIA | D9: USD | E9: 7.01
B10: U.S. | C10: COLORADO | D10: USD | E10: 7.88
B11: U.S. | C11: FLORIDA | D11: USD | E11: 5.42
B12: U.S. | C12: GEORGIA | D12: USD | E12: 5.32
B13: U.S. | C13: ILLINOIS | D13: USD | E13: 7.47
B14: U.S. | C14: MASSACHUSETTS | D14: USD | E14: 6.47
B15: U.S. | C15: MICHIGAN | D15: USD | E15: 4.85
B16: U.S. | C16: NEW JERSEY | D16: USD | E16: 7.05
B17: U.S. | C17: NEW YORK | D17: USD | E17: 6.34
B18: U.S. | C18: NORTH CAROLINA | D18: USD | E18: 4.88
... B25: U.S. | C25: WASHINGTON | D25: USD | E25: 6.78

Sheet Cigs-Select Markets-Feb'26 
B2: February 1st, 2026
B4: Note: Not exhaustive list. 20 cigarettes per pack unless otherwise stated. Low includes super-low Source: PMI affiliates and Nielsen
E5: Above Premium | G5: Premium | I5: Mid-Price | K5: Low-Price | N5: Note
B6: Region | C6: Market | D6: Curr. | E6: Brand | F6: RSP | G6: Brand | H6: RSP | I6: Brand | J6: RSP | K6: Brand | L6: RSP
B7: EUROPE | C7: FRANCE | D7: EUR | G7: Marlboro Core | H7: 13.5 | K7: Philip Morris / Chesterfield / L&M | L7: 13
B8: EUROPE | C8: GERMANY | D8: EUR | E8: Eve | F8: 9.7 | G8: Marlboro NP | H8: 9.4 | I8: Marlboro XL | J8: 9.0909091 | K8: L&M XL | L8: 8.3333333
B9: EUROPE | C9: ITALY | D9: EUR | E9: Marlboro Premium | F9: 6.8 | G9: Merit Box | H9: 6.5 | I9: Marlboro Soft | J9: 6.3 | K9: Chesterfield / Philip Morris | L9: 5.8
B10: EUROPE | C10: POLAND | D10: PLN | G10: Marlboro | H10: 26.99 | I10: L&M | J10: 24.99 | K10: L&M First Cut | L10: 22.5
B11: EUROPE | C11: SPAIN | D11: EUR | G11: Marlboro | H11: 6.25 | I11: Chesterfield | J11: 6.1 | K11: Marlboro Crafted | L11: 5.1
B12: SSEA, CIS & MEA | C12: EGYPT | D12: EGP | E12: Merit | F12: 105 | G12: Marlboro | H12: 97 | I12: L&M | J12: 76
B13: SSEA, CIS & MEA | C13: INDONESIA | D13: IDR | G13: Sampoerna A Mild | H13: 36137
B14: SSEA, CIS & MEA | C14: PHILIPPINES | D14: PHP | G14: Marlboro | H14: 180 | I14: Fortune | J14: 160 | K14: Chesterfield | L14: 140
B15: SSEA, CIS & MEA | C15: RUSSIA | D15: RUB | E15: Parliament | F15: 299 | G15: Marlboro | H15: 269 | I15: Marlboro Crafted | J15: 209 | K15: Chesterfield Selection Compact | L15: 189
B16: SSEA, CIS & MEA | C16: TURKEY | D16: TRY | E16: Parliament | F16: 100 | G16: Marlboro | H16: 100 | I16: Muratti | J16: 97 | K16: L&M | L16: 95
B17: EA, AU & GTR | C17: AUSTRALIA | D17: AUD | G17: Marlboro | H17: 61.99 | I17: Bond Street | J17: 46.99 | K17: Chesterfield | L17: 36.99
B18: EA, AU & GTR | C18: JAPAN | D18: JPY | G18: Marlboro / Parliament | H18: 600.0 / 580.0 | I18: Lark | J18: 540 | K18: Philip Morris | L18: 450
B19: EA, AU & GTR | C19: SOUTH KOREA | D19: KRW | G19: Marlboro | H19: 4500
B20: AMERICAS | C20: ARGENTINA | D20: ARS | E20: Parliament | F20: 5850 | G20: Marlboro | H20: 5300 | I20: Philip Morris | J20: 4350 | K20: Marlboro Crafted | L20: 2750
B21: AMERICAS | C21: MEXICO | D21: MXN | G21: Marlboro | H21: 103 | I21: Marlboro Vista | J21: 96 | K21: Marlboro Crafted | L21: 87

Sheet Cigs-Select - Oct vs. July
B2: October 1st, 2025
B4: Note: Not exhaustive list. 20 cigarettes per pack unless otherwise stated. Low includes super-low Source: PMI affiliates and Nielsen
E5: Above Premium | G5: Premium | I5: Mid-Price | K5: Low-Price | N5: Note
B6: Region | C6: Market | D6: Curr. | E6: Brand | F6: RSP | G6: Brand | H6: RSP | I6: Brand | J6: RSP | K6: Brand | L6: RSP
B7: EUROPE | C7: FRANCE | D7: EUR | F7: ='Cigs-Select Markets-Feb''26 '!F7-#REF! -> #REF! | G7: Marlboro Core | H7: ='Cigs-Select Markets-Feb''26 '!H7-#REF! -> #REF! | J7: ='Cigs-Select Markets-Feb''26 '!J7-#REF! -> #REF! | K7: Philip Morris / Chesterfield / L&M | L7: ='Cigs-Select Markets-Feb''26 '!L7-#REF! -> #REF!
B8: EUROPE | C8: GERMANY | D8: EUR | E8: Eve | F8: ='Cigs-Select Markets-Feb''26 '!F8-#REF! -> #REF! | G8: Marlboro NP | H8: ='Cigs-Select Markets-Feb''26 '!H8-#REF! -> #REF! | I8: Marlboro XL | J8: ='Cigs-Select Markets-Feb''26 '!J8-#REF! -> #REF! | K8: L&M XL | L8: ='Cigs-Select Markets-Feb''26 '!L8-#REF! -> #REF!
B9: EUROPE | C9: ITALY | D9: EUR | E9: Marlboro Premium | F9: ='Cigs-Select Markets-Feb''26 '!F9-#REF! -> #REF! | G9: Merit Box | H9: ='Cigs-Select Markets-Feb''26 '!H9-#REF! -> #REF! | I9: Marlboro Soft | J9: ='Cigs-Select Markets-Feb''26 '!J9-#REF! -> #REF! | K9: Chesterfield / Philip Morris | L9: ='Cigs-Select Markets-Feb''26 '!L9-#REF! -> #REF!
B10: EUROPE | C10: POLAND | D10: PLN | F10: ='Cigs-Select Markets-Feb''26 '!F10-#REF! -> #REF! | G10: Marlboro | H10: ='Cigs-Select Markets-Feb''26 '!H10-#REF! -> #REF! | I10: L&M | J10: ='Cigs-Select Markets-Feb''26 '!J10-#REF! -> #REF! | K10: L&M First Cut | L10: ='Cigs-Select Markets-Feb''26 '!L10-#REF! -> #REF!
B11: EUROPE | C11: SPAIN | D11: EUR | F11: ='Cigs-Select Markets-Feb''26 '!F11-#REF! -> #REF! | G11: Marlboro | H11: ='Cigs-Select Markets-Feb''26 '!H11-#REF! -> #REF! | I11: Chesterfield | J11: ='Cigs-Select Markets-Feb''26 '!J11-#REF! -> #REF! | K11: Marlboro Crafted | L11: ='Cigs-Select Markets-Feb''26 '!L11-#REF! -> #REF!
B12: SSEA, CIS & MEA | C12: EGYPT | D12: EGP | E12: Merit | F12: ='Cigs-Select Markets-Feb''26 '!F12-#REF! -> #REF! | G12: Marlboro | H12: ='Cigs-Select Markets-Feb''26 '!H12-#REF! -> #REF! | I12: L&M | J12: ='Cigs-Select Markets-Feb''26 '!J12-#REF! -> #REF! | L12: ='Cigs-Select Markets-Feb''26 '!L12-#REF! -> #REF!
B13: SSEA, CIS & MEA | C13: INDONESIA | D13: IDR | F13: ='Cigs-Select Markets-Feb''26 '!F17-#REF! -> #REF! | G13: Sampoerna A Mild | H13: ='Cigs-Select Markets-Feb''26 '!H17-#REF! -> #REF! | I13: Sampoerna A Ultra Mild | J13: ='Cigs-Select Markets-Feb''26 '!J17-#REF! -> #REF! | L13: ='Cigs-Select Markets-Feb''26 '!L17-#REF! -> #REF! | N13: Based on Nielsen Aug 2025. Reflects average observed retail selling prices. 16 cigarettes per pack. SKM low tar category segment
B14: SSEA, CIS & MEA | C14: PHILIPPINES | D14: PHP | F14: ='Cigs-Select Markets-Feb''26 '!F18-#REF! -> #REF! | G14: Marlboro | H14: ='Cigs-Select Markets-Feb''26 '!H18-#REF! -> #VALUE! | I14: Fortune | J14: ='Cigs-Select Markets-Feb''26 '!J18-#REF! -> #REF! | K14: Chesterfield | L14: ='Cigs-Select Markets-Feb''26 '!L18-#REF! -> #REF!
B15: SSEA, CIS & MEA | C15: RUSSIA | D15: RUB | E15: Parliament | F15: ='Cigs-Select Markets-Feb''26 '!F13-#REF! -> #REF! | G15: Marlboro | H15: ='Cigs-Select Markets-Feb''26 '!H13-#REF! -> #REF! | I15: Marlboro Crafted | J15: ='Cigs-Select Markets-Feb''26 '!J13-#REF! -> #REF! | K15: Chesterfield Selection Compact | L15: ='Cigs-Select Markets-Feb''26 '!L13-#REF! -> #REF!
B16: SSEA, CIS & MEA | C16: TURKEY | D16: TRY | E16: Parliament | F16: ='Cigs-Select Markets-Feb''26 '!F14-#REF! -> #REF! | G16: Marlboro | H16: ='Cigs-Select Markets-Feb''26 '!H14-#REF! -> #REF! | I16: Muratti | J16: ='Cigs-Select Markets-Feb''26 '!J14-#REF! -> #REF! | K16: L&M | L16: ='Cigs-Select Markets-Feb''26 '!L14-#REF! -> #REF!
B17: EA, AU & GTR | C17: AUSTRALIA | D17: AUD | F17: ='Cigs-Select Markets-Feb''26 '!F15-#REF! -> #REF! | G17: Marlboro | H17: ='Cigs-Select Markets-Feb''26 '!H15-#REF! -> #REF! | I17: Peter Jackson | J17: ='Cigs-Select Markets-Feb''26 '!J15-#REF! -> #REF! | K17: Bond Street | L17: ='Cigs-Select Markets-Feb''26 '!L15-#REF! -> #REF!
B18: EA, AU & GTR | C18: JAPAN | D18: JPY | F18: ='Cigs-Select Markets-Feb''26 '!F16-#REF! -> #REF! | G18: Marlboro / Parliament | H18: - | I18: Lark | J18: ='Cigs-Select Markets-Feb''26 '!J16-#REF! -> #REF! | K18: Philip Morris | L18: ='Cigs-Select Markets-Feb''26 '!L16-#REF! -> #REF!
B19: EA, AU & GTR | C19: SOUTH KOREA | D19: KRW | F19: ='Cigs-Select Markets-Feb''26 '!F19-#REF! -> #REF! | G19: Marlboro | H19: ='Cigs-Select Markets-Feb''26 '!H19-#REF! -> #REF! | J19: ='Cigs-Select Markets-Feb''26 '!J19-#REF! -> #REF! | L19: ='Cigs-Select Markets-Feb''26 '!L19-#REF! -> #REF!
B20: AMERICAS | C20: ARGENTINA | D20: ARS | E20: Parliament | F20: ='Cigs-Select Markets-Feb''26 '!F20-#REF! -> #REF! | G20: Marlboro | H20: ='Cigs-Select Markets-Feb''26 '!H20-#REF! -> #REF! | I20: Philip Morris | J20: ='Cigs-Select Markets-Feb''26 '!J20-#REF! -> #REF! | K20: Marlboro Crafted | L20: ='Cigs-Select Markets-Feb''26 '!L20-#REF! -> #REF! | N20: RSPs for Philip Morris and Marlboro Crafted represent soft pack prices
B21: AMERICAS | C21: MEXICO | D21: MXN | F21: ='Cigs-Select Markets-Feb''26 '!F21-#REF! -> #REF! | G21: Marlboro | H21: ='Cigs-Select Markets-Feb''26 '!H21-#REF! -> #REF! | I21: Marlboro Vista | J21: ='Cigs-Select Markets-Feb''26 '!J21-#REF! -> #REF! | K21: Marlboro Crafted | L21: ='Cigs-Select Markets-Feb''26 '!L21-#REF! -> #REF!

Sheet Cigs-Select Markets - Comp
B2: July 1st, 2025
B4: Note: Not exhaustive list. 20 cigarettes per pack unless otherwise stated. Low includes super-low Source: PMI affiliates and Nielsen
E5: Above Premium | G5: Premium | I5: Mid-Price | K5: Low-Price | N5: Note
B6: Region | C6: Market | D6: Curr. | E6: Brand | F6: RSP | G6: Brand | H6: RSP | I6: Brand | J6: RSP | K6: Brand | L6: RSP
B7: EUROPE | C7: FRANCE | D7: EUR | F7: ='Cigs-Select Markets-Feb''26 '!F7-#REF! -> #REF! | G7: Marlboro | H7: ='Cigs-Select Markets-Feb''26 '!H7-#REF! -> #REF! | J7: ='Cigs-Select Markets-Feb''26 '!J7-#REF! -> #REF! | K7: Philip Morris / Chesterfield / L&M | L7: ='Cigs-Select Markets-Feb''26 '!L7-#REF! -> #REF!
B8: EUROPE | C8: GERMANY | D8: EUR | E8: Eve | F8: ='Cigs-Select Markets-Feb''26 '!F8-#REF! -> #REF! | G8: Marlboro NP | H8: ='Cigs-Select Markets-Feb''26 '!H8-#REF! -> #REF! | I8: Marlboro XL | J8: ='Cigs-Select Markets-Feb''26 '!J8-#REF! -> #REF! | K8: L&M XL | L8: ='Cigs-Select Markets-Feb''26 '!L8-#REF! -> #REF!
B9: EUROPE | C9: ITALY | D9: EUR | E9: Marlboro Premium | F9: ='Cigs-Select Markets-Feb''26 '!F9-#REF! -> #REF! | G9: Merit Box | H9: ='Cigs-Select Markets-Feb''26 '!H9-#REF! -> #REF! | I9: Marlboro Soft | J9: ='Cigs-Select Markets-Feb''26 '!J9-#REF! -> #REF! | K9: Chesterfield / Philip Morris | L9: ='Cigs-Select Markets-Feb''26 '!L9-#REF! -> #REF! | N9: Diana at 5.30
B10: EUROPE | C10: POLAND | D10: PLN | F10: ='Cigs-Select Markets-Feb''26 '!F10-#REF! -> #REF! | G10: Marlboro | H10: ='Cigs-Select Markets-Feb''26 '!H10-#REF! -> #REF! | I10: L&M | J10: ='Cigs-Select Markets-Feb''26 '!J10-#REF! -> #REF! | K10: Chesterfield | L10: ='Cigs-Select Markets-Feb''26 '!L10-#REF! -> #REF!
B11: EUROPE | C11: SPAIN | D11: EUR | F11: ='Cigs-Select Markets-Feb''26 '!F11-#REF! -> #REF! | G11: Marlboro | H11: ='Cigs-Select Markets-Feb''26 '!H11-#REF! -> #REF! | I11: Chesterfield | J11: ='Cigs-Select Markets-Feb''26 '!J11-#REF! -> #REF! | K11: Marlboro Crafted | L11: ='Cigs-Select Markets-Feb''26 '!L11-#REF! -> #REF!
B12: SSEA, CIS & MEA | C12: EGYPT | D12: EGP | E12: Merit | F12: ='Cigs-Select Markets-Feb''26 '!F12-#REF! -> #REF! | G12: Marlboro | H12: ='Cigs-Select Markets-Feb''26 '!H12-#REF! -> #REF! | I12: L&M | J12: ='Cigs-Select Markets-Feb''26 '!J12-#REF! -> #REF! | L12: ='Cigs-Select Markets-Feb''26 '!L12-#REF! -> #REF!
B13: SSEA, CIS & MEA | C13: INDONESIA | D13: IDR | F13: ='Cigs-Select Markets-Feb''26 '!F17-#REF! -> #REF! | G13: Sampoerna A Mild | H13: ='Cigs-Select Markets-Feb''26 '!H17-#REF! -> #REF! | I13: Sampoerna A Ultra Mild | J13: ='Cigs-Select Markets-Feb''26 '!J17-#REF! -> #REF! | L13: ='Cigs-Select Markets-Feb''26 '!L17-#REF! -> #REF! | N13: Based on Nielsen May 2025. Reflects average observed retail selling prices. 16 cigarettes per pack. SKM low tar category segment
B14: SSEA, CIS & MEA | C14: PHILIPPINES | D14: PHP | F14: ='Cigs-Select Markets-Feb''26 '!F18-#REF! -> #REF! | G14: Marlboro | H14: ='Cigs-Select Markets-Feb''26 '!H18-#REF! -> #VALUE! | I14: Fortune | J14: ='Cigs-Select Markets-Feb''26 '!J18-#REF! -> #REF! | K14: Chesterfield | L14: ='Cigs-Select Markets-Feb''26 '!L18-#REF! -> #REF!
B15: SSEA, CIS & MEA | C15: RUSSIA | D15: RUB | E15: Parliament | F15: ='Cigs-Select Markets-Feb''26 '!F13-#REF! -> #REF! | G15: Marlboro | H15: ='Cigs-Select Markets-Feb''26 '!H13-#REF! -> #REF! | I15: Marlboro Crafted | J15: ='Cigs-Select Markets-Feb''26 '!J13-#REF! -> #REF! | K15: Chesterfield Selection Compact | L15: ='Cigs-Select Markets-Feb''26 '!L13-#REF! -> #REF! | N15: Declared prices for Jul'25
B16: SSEA, CIS & MEA | C16: TURKEY | D16: TRY | E16: Parliament | F16: ='Cigs-Select Markets-Feb''26 '!F14-#REF! -> #REF! | G16: Marlboro | H16: ='Cigs-Select Markets-Feb''26 '!H14-#REF! -> #REF! | I16: Muratti | J16: ='Cigs-Select Markets-Feb''26 '!J14-#REF! -> #REF! | K16: L&M | L16: ='Cigs-Select Markets-Feb''26 '!L14-#REF! -> #REF! | N16: PMI increase prices increased by +5 TRY across on 9th iof July. Price for Parliament is 92, Marlboro 90, Muratti 87, L&M 85
B17: EA, AU & GTR | C17: AUSTRALIA | D17: AUD | F17: ='Cigs-Select Markets-Feb''26 '!F15-#REF! -> #REF! | G17: Marlboro | H17: ='Cigs-Select Markets-Feb''26 '!H15-#REF! -> #REF! | I17: Peter Jackson | J17: ='Cigs-Select Markets-Feb''26 '!J15-#REF! -> #REF! | K17: Bond Street | L17: ='Cigs-Select Markets-Feb''26 '!L15-#REF! -> #REF! | N17: Marlboro decreased by 1 AUD • Apr submission was RRSP and by then retailer could provide additional discount on top of this RRSP • However, from June onward, due to the regulatory change, retailers no longer allow to provide discount • Therefore, Market had to reposition its RSP baking in the discount portion • As a result, in terms of RSP perspective, it shows a bit decrease vs. prior submission
B18: EA, AU & GTR | C18: JAPAN | D18: JPY | F18: ='Cigs-Select Markets-Feb''26 '!F16-#REF! -> #REF! | G18: Marlboro / Parliament | H18: ='Cigs-Select Markets-Feb''26 '!H16-#REF! -> #REF! | I18: Lark | J18: ='Cigs-Select Markets-Feb''26 '!J16-#REF! -> #REF! | K18: Philip Morris | L18: ='Cigs-Select Markets-Feb''26 '!L16-#REF! -> #REF!
B19: EA, AU & GTR | C19: SOUTH KOREA | D19: KRW | F19: ='Cigs-Select Markets-Feb''26 '!F19-#REF! -> #REF! | G19: Marlboro | H19: ='Cigs-Select Markets-Feb''26 '!H19-#REF! -> #REF! | J19: ='Cigs-Select Markets-Feb''26 '!J19-#REF! -> #REF! | L19: ='Cigs-Select Markets-Feb''26 '!L19-#REF! -> #REF!
B20: AMERICAS | C20: ARGENTINA | D20: ARS | E20: Parliament | F20: ='Cigs-Select Markets-Feb''26 '!F20-#REF! -> #REF! | G20: Marlboro | H20: ='Cigs-Select Markets-Feb''26 '!H20-#REF! -> #REF! | I20: Philip Morris | J20: ='Cigs-Select Markets-Feb''26 '!J20-#REF! -> #REF! | K20: Marlboro Crafted | L20: ='Cigs-Select Markets-Feb''26 '!L20-#REF! -> #REF! | N20: RSPs for Philip Morris and Marlboro Crafted represent soft pack prices
B21: AMERICAS | C21: MEXICO | D21: MXN | F21: ='Cigs-Select Markets-Feb''26 '!F21-#REF! -> #REF! | G21: Marlboro | H21: ='Cigs-Select Markets-Feb''26 '!H21-#REF! -> #REF! | I21: Marlboro Vista | J21: ='Cigs-Select Markets-Feb''26 '!J21-#REF! -> #REF! | K21: Marlboro Crafted | L21: ='Cigs-Select Markets-Feb''26 '!L21-#REF! -> #REF!
